{"text_format":"1","workbook":"xlsx","n_sheets":3,"sheets":["Sheet1","Sheet2","Sheet3"],"not_rendered":{"charts":0,"images":0,"macros":1,"external_links":0,"defined_names":0,"comments":0,"pivot_tables":0},"unopened":[],"bounds":{"document_bytes":16777216,"sheet_cells":100000,"rows_first":2000,"rows_last":500,"rows_between":2000,"halvings":0,"cell_chars":16384,"cell_head_chars":4096},"cells_cut":0,"cells_raw":0,"read":"whole","date_system":"1900"}

{"sheet":"Sheet1","index":0,"n_rows":45,"n_cols":5,"rows_kept":45,"cut":false,"hidden":false,"merged":[]}
[null,"くりあがりのけいさん"]
[]
[null,null,null,null,"組"]
[]
[{"$f":"INDIRECT(ADDRESS(Sheet2!D1,1,1,1,\"Sheet2\"),1)","v":"7+6"},null,null,null,{"$f":"INDIRECT(ADDRESS(Sheet2!D19,1,1,1,\"Sheet2\"),1)","v":"9+9"}]
[{"$f":"INDIRECT(ADDRESS(Sheet2!D2,1,1,1,\"Sheet2\"),1)","v":"8+3"},null,null,null,{"$f":"INDIRECT(ADDRESS(Sheet2!D20,1,1,1,\"Sheet2\"),1)","v":"7+4"}]
[{"$f":"INDIRECT(ADDRESS(Sheet2!D3,1,1,1,\"Sheet2\"),1)","v":"5+9"},null,null,null,{"$f":"INDIRECT(ADDRESS(Sheet2!D21,1,1,1,\"Sheet2\"),1)","v":"6+5"}]
[{"$f":"INDIRECT(ADDRESS(Sheet2!D4,1,1,1,\"Sheet2\"),1)","v":"6+9"},null,null,null,{"$f":"INDIRECT(ADDRESS(Sheet2!D22,1,1,1,\"Sheet2\"),1)","v":"3+8"}]
[{"$f":"INDIRECT(ADDRESS(Sheet2!D5,1,1,1,\"Sheet2\"),1)","v":"6+8"},null,null,null,{"$f":"INDIRECT(ADDRESS(Sheet2!D23,1,1,1,\"Sheet2\"),1)","v":"7+9"}]
[{"$f":"INDIRECT(ADDRESS(Sheet2!D6,1,1,1,\"Sheet2\"),1)","v":"5+8"},null,null,null,{"$f":"INDIRECT(ADDRESS(Sheet2!D24,1,1,1,\"Sheet2\"),1)","v":"2+9"}]
[{"$f":"INDIRECT(ADDRESS(Sheet2!D7,1,1,1,\"Sheet2\"),1)","v":"9+6"},null,null,null,{"$f":"INDIRECT(ADDRESS(Sheet2!D25,1,1,1,\"Sheet2\"),1)","v":"4+9"}]
[{"$f":"INDIRECT(ADDRESS(Sheet2!D8,1,1,1,\"Sheet2\"),1)","v":"6+7"},null,null,null,{"$f":"INDIRECT(ADDRESS(Sheet2!D26,1,1,1,\"Sheet2\"),1)","v":"8+7"}]
[{"$f":"INDIRECT(ADDRESS(Sheet2!D9,1,1,1,\"Sheet2\"),1)","v":"8+5"},null,null,null,{"$f":"INDIRECT(ADDRESS(Sheet2!D27,1,1,1,\"Sheet2\"),1)","v":"5+6"}]
[{"$f":"INDIRECT(ADDRESS(Sheet2!D10,1,1,1,\"Sheet2\"),1)","v":"7+8"},null,null,null,{"$f":"INDIRECT(ADDRESS(Sheet2!D28,1,1,1,\"Sheet2\"),1)","v":"9+7"}]
[{"$f":"INDIRECT(ADDRESS(Sheet2!D11,1,1,1,\"Sheet2\"),1)","v":"4+8"},null,null,null,{"$f":"INDIRECT(ADDRESS(Sheet2!D29,1,1,1,\"Sheet2\"),1)","v":"8+4"}]
[{"$f":"INDIRECT(ADDRESS(Sheet2!D12,1,1,1,\"Sheet2\"),1)","v":"4+7"},null,null,null,{"$f":"INDIRECT(ADDRESS(Sheet2!D30,1,1,1,\"Sheet2\"),1)","v":"6+6"}]
[{"$f":"INDIRECT(ADDRESS(Sheet2!D13,1,1,1,\"Sheet2\"),1)","v":"8+9"},null,null,null,{"$f":"INDIRECT(ADDRESS(Sheet2!D31,1,1,1,\"Sheet2\"),1)","v":"8+8"}]
[{"$f":"INDIRECT(ADDRESS(Sheet2!D14,1,1,1,\"Sheet2\"),1)","v":"3+9"},null,null,null,{"$f":"INDIRECT(ADDRESS(Sheet2!D32,1,1,1,\"Sheet2\"),1)","v":"9+4"}]
[{"$f":"INDIRECT(ADDRESS(Sheet2!D15,1,1,1,\"Sheet2\"),1)","v":"7+5"},null,null,null,{"$f":"INDIRECT(ADDRESS(Sheet2!D33,1,1,1,\"Sheet2\"),1)","v":"9+2"}]
[{"$f":"INDIRECT(ADDRESS(Sheet2!D16,1,1,1,\"Sheet2\"),1)","v":"9+3"},null,null,null,{"$f":"INDIRECT(ADDRESS(Sheet2!D34,1,1,1,\"Sheet2\"),1)","v":"9+8"}]
[{"$f":"INDIRECT(ADDRESS(Sheet2!D17,1,1,1,\"Sheet2\"),1)","v":"7+7"},null,null,null,{"$f":"INDIRECT(ADDRESS(Sheet2!D35,1,1,1,\"Sheet2\"),1)","v":"8+6"}]
[{"$f":"INDIRECT(ADDRESS(Sheet2!D18,1,1,1,\"Sheet2\"),1)","v":"9+5"},null,null,null,{"$f":"INDIRECT(ADDRESS(Sheet2!D36,1,1,1,\"Sheet2\"),1)","v":"5+7"}]
[]
[null,"くりさがりのけいさん"]
[]
[null,null,null,null,"組"]
[]
[{"$f":"INDIRECT(ADDRESS(Sheet2!D1,2,1,1,\"Sheet2\"),1)","v":"13-7"},null,null,null,{"$f":"INDIRECT(ADDRESS(Sheet2!D19,2,1,1,\"Sheet2\"),1)","v":"18-9"}]
[{"$f":"INDIRECT(ADDRESS(Sheet2!D2,2,1,1,\"Sheet2\"),1)","v":"11-8"},null,null,null,{"$f":"INDIRECT(ADDRESS(Sheet2!D20,2,1,1,\"Sheet2\"),1)","v":"11-7"}]
[{"$f":"INDIRECT(ADDRESS(Sheet2!D3,2,1,1,\"Sheet2\"),1)","v":"14-5"},null,null,null,{"$f":"INDIRECT(ADDRESS(Sheet2!D21,2,1,1,\"Sheet2\"),1)","v":"11-6"}]
[{"$f":"INDIRECT(ADDRESS(Sheet2!D4,2,1,1,\"Sheet2\"),1)","v":"15-6"},null,null,null,{"$f":"INDIRECT(ADDRESS(Sheet2!D22,2,1,1,\"Sheet2\"),1)","v":"11-3"}]
[{"$f":"INDIRECT(ADDRESS(Sheet2!D5,2,1,1,\"Sheet2\"),1)","v":"14-6"},null,null,null,{"$f":"INDIRECT(ADDRESS(Sheet2!D23,2,1,1,\"Sheet2\"),1)","v":"16-7"}]
[{"$f":"INDIRECT(ADDRESS(Sheet2!D6,2,1,1,\"Sheet2\"),1)","v":"13-5"},null,null,null,{"$f":"INDIRECT(ADDRESS(Sheet2!D24,2,1,1,\"Sheet2\"),1)","v":"11-2"}]
[{"$f":"INDIRECT(ADDRESS(Sheet2!D7,2,1,1,\"Sheet2\"),1)","v":"15-9"},null,null,null,{"$f":"INDIRECT(ADDRESS(Sheet2!D25,2,1,1,\"Sheet2\"),1)","v":"13-4"}]
[{"$f":"INDIRECT(ADDRESS(Sheet2!D8,2,1,1,\"Sheet2\"),1)","v":"13-6"},null,null,null,{"$f":"INDIRECT(ADDRESS(Sheet2!D26,2,1,1,\"Sheet2\"),1)","v":"15-8"}]
[{"$f":"INDIRECT(ADDRESS(Sheet2!D9,2,1,1,\"Sheet2\"),1)","v":"13-8"},null,null,null,{"$f":"INDIRECT(ADDRESS(Sheet2!D27,2,1,1,\"Sheet2\"),1)","v":"11-5"}]
[{"$f":"INDIRECT(ADDRESS(Sheet2!D10,2,1,1,\"Sheet2\"),1)","v":"15-7"},null,null,null,{"$f":"INDIRECT(ADDRESS(Sheet2!D28,2,1,1,\"Sheet2\"),1)","v":"16-9"}]
[{"$f":"INDIRECT(ADDRESS(Sheet2!D11,2,1,1,\"Sheet2\"),1)","v":"12-4"},null,null,null,{"$f":"INDIRECT(ADDRESS(Sheet2!D29,2,1,1,\"Sheet2\"),1)","v":"12-8"}]
[{"$f":"INDIRECT(ADDRESS(Sheet2!D12,2,1,1,\"Sheet2\"),1)","v":"11-4"},null,null,null,{"$f":"INDIRECT(ADDRESS(Sheet2!D30,2,1,1,\"Sheet2\"),1)","v":"12-6"}]
[{"$f":"INDIRECT(ADDRESS(Sheet2!D13,2,1,1,\"Sheet2\"),1)","v":"17-8"},null,null,null,{"$f":"INDIRECT(ADDRESS(Sheet2!D31,2,1,1,\"Sheet2\"),1)","v":"16-8"}]
[{"$f":"INDIRECT(ADDRESS(Sheet2!D14,2,1,1,\"Sheet2\"),1)","v":"12-3"},null,null,null,{"$f":"INDIRECT(ADDRESS(Sheet2!D32,2,1,1,\"Sheet2\"),1)","v":"13-9"}]
[{"$f":"INDIRECT(ADDRESS(Sheet2!D15,2,1,1,\"Sheet2\"),1)","v":"12-7"},null,null,null,{"$f":"INDIRECT(ADDRESS(Sheet2!D33,2,1,1,\"Sheet2\"),1)","v":"11-9"}]
[{"$f":"INDIRECT(ADDRESS(Sheet2!D16,2,1,1,\"Sheet2\"),1)","v":"12-9"},null,null,null,{"$f":"INDIRECT(ADDRESS(Sheet2!D34,2,1,1,\"Sheet2\"),1)","v":"17-9"}]
[{"$f":"INDIRECT(ADDRESS(Sheet2!D17,2,1,1,\"Sheet2\"),1)","v":"14-7"},null,null,null,{"$f":"INDIRECT(ADDRESS(Sheet2!D35,2,1,1,\"Sheet2\"),1)","v":"14-8"}]
[{"$f":"INDIRECT(ADDRESS(Sheet2!D18,2,1,1,\"Sheet2\"),1)","v":"14-9"},null,null,null,{"$f":"INDIRECT(ADDRESS(Sheet2!D36,2,1,1,\"Sheet2\"),1)","v":"12-5"}]

{"sheet":"Sheet2","index":1,"n_rows":36,"n_cols":4,"rows_kept":36,"cut":false,"hidden":false,"merged":[]}
["2+9","11-2",null,19]
["3+9","12-3",null,28]
["3+8","11-3",null,7]
["4+9","13-4",null,11]
["4+8","12-4",null,12]
["4+7","11-4",null,8]
["5+9","14-5",null,32]
["5+8","13-5",null,13]
["5+7","12-5",null,26]
["5+6","11-5",null,17]
["6+9","15-6",null,5]
["6+8","14-6",null,6]
["6+7","13-6",null,22]
["6+6","12-6",null,2]
["6+5","11-6",null,20]
["7+9","16-7",null,35]
["7+8","15-7",null,18]
["7+7","14-7",null,33]
["7+6","13-7",null,29]
["7+5","12-7",null,21]
["7+4","11-7",null,15]
["8+9","17-8",null,3]
["8+8","16-8",null,16]
["8+7","15-8",null,1]
["8+6","14-8",null,4]
["8+5","13-8",null,24]
["8+4","12-8",null,10]
["8+3","11-8",null,31]
["9+9","18-9",null,27]
["9+8","17-9",null,14]
["9+7","16-9",null,23]
["9+6","15-9",null,34]
["9+5","14-9",null,36]
["9+4","13-9",null,30]
["9+3","12-9",null,25]
["9+2","11-9",null,9]

{"sheet":"Sheet3","index":2,"n_rows":0,"n_cols":0,"rows_kept":0,"cut":false,"hidden":false,"merged":[]}